BEGIN:VCALENDAR
VERSION:2.0
PRODID:-//Sona Medical College of Naturopathy and Yoga - ECPv6.15.20//NONSGML v1.0//EN
CALSCALE:GREGORIAN
METHOD:PUBLISH
X-ORIGINAL-URL:https://www.sonamedicalcollege.ac.in
X-WR-CALDESC:Events for Sona Medical College of Naturopathy and Yoga
REFRESH-INTERVAL;VALUE=DURATION:PT1H
X-Robots-Tag:noindex
X-PUBLISHED-TTL:PT1H
BEGIN:VTIMEZONE
TZID:Asia/Kolkata
BEGIN:STANDARD
TZOFFSETFROM:+0530
TZOFFSETTO:+0530
TZNAME:IST
DTSTART:20250101T000000
END:STANDARD
END:VTIMEZONE
BEGIN:VEVENT
DTSTART;TZID=Asia/Kolkata:20260325T100000
DTEND;TZID=Asia/Kolkata:20260325T113000
DTSTAMP:20260420T195452
CREATED:20260413T060222Z
LAST-MODIFIED:20260413T060222Z
UID:14404-1774432800-1774438200@www.sonamedicalcollege.ac.in
SUMMARY:World Tuberculosis Day 2026
DESCRIPTION:On the occasion of World Tuberculosis Day\, Sona Medical College of Naturopathy and Yoga organized an insightful Speaker Forum at Sona 500 Hall to create awareness about tuberculosis\, its causes\, symptoms\, prevention\, and holistic management. The program\, conducted by the Department of BNYS under the guidance of Dr. Santhosh Kumar K.\, featured engaging sessions by student presenters and faculty\, covering scientific aspects of TB\, treatment protocols\, government initiatives like DOTS therapy\, and the role of yoga and naturopathy in supporting recovery and overall well-being. With active participation from students and faculty across all batches\, the event successfully highlighted the importance of early diagnosis\, treatment adherence\, and integrative healthcare approaches in combating tuberculosis\, making it a meaningful academic and public health awareness initiative.
URL:https://www.sonamedicalcollege.ac.in/event/world-tuberculosis-day-2026/
LOCATION:Sona Medical College of Naturopathy and Yoga\, Sona Medical College of Naturopathy and Yoga\,\, Salem\, Tamil nadu\, 637504\, India
END:VEVENT
BEGIN:VEVENT
DTSTART;TZID=Asia/Kolkata:20260328T100000
DTEND;TZID=Asia/Kolkata:20260328T163000
DTSTAMP:20260420T195452
CREATED:20260413T061514Z
LAST-MODIFIED:20260413T061514Z
UID:14413-1774692000-1774715400@www.sonamedicalcollege.ac.in
SUMMARY:Women’s Day celebration 2026
DESCRIPTION:The Women’s Day celebration was honored by the gracious presence of our Chief Guest\, Dr. A.S. Hemavathi\, along with our respected Principal\, Dr. Dharmasamvardhini S.\, Dean Dr. Vasanthi Balamurugan\, and AO Mr. K. Shankar.\nThe Chief Guest delivered an inspiring message on women’s empowerment\, health\, and the importance of dedication and compassion in life.\nThe event came alive with vibrant cultural performances\, showcasing the creativity and talents of our students.\nThe celebration concluded on a memorable note\, inspiring everyone to continue empowering and uplifting women in all walks of life. \n           \n 
URL:https://www.sonamedicalcollege.ac.in/event/womens-day-celebration-2026/
LOCATION:Sona Medical College of Naturopathy and Yoga\, Sona Medical College of Naturopathy and Yoga\,\, Salem\, Tamil nadu\, 637504\, India
END:VEVENT
END:VCALENDAR