BEGIN:VCALENDAR
VERSION:2.0
PRODID:-//Sona Medical College of Naturopathy and Yoga - ECPv6.15.20//NONSGML v1.0//EN
CALSCALE:GREGORIAN
METHOD:PUBLISH
X-ORIGINAL-URL:https://www.sonamedicalcollege.ac.in
X-WR-CALDESC:Events for Sona Medical College of Naturopathy and Yoga
REFRESH-INTERVAL;VALUE=DURATION:PT1H
X-Robots-Tag:noindex
X-PUBLISHED-TTL:PT1H
BEGIN:VTIMEZONE
TZID:Asia/Kolkata
BEGIN:STANDARD
TZOFFSETFROM:+0530
TZOFFSETTO:+0530
TZNAME:IST
DTSTART:20220101T000000
END:STANDARD
END:VTIMEZONE
BEGIN:VEVENT
DTSTART;TZID=Asia/Kolkata:20240308T093000
DTEND;TZID=Asia/Kolkata:20240308T093000
DTSTAMP:20260420T002517
CREATED:20240308T125151Z
LAST-MODIFIED:20240311T141324Z
UID:12003-1709890200-1709890200@www.sonamedicalcollege.ac.in
SUMMARY:International Women's day 2024
DESCRIPTION:  \n\n			\n				\n			\n			\n				\n			\n			\n				\n			\n			\n				\n			\n			\n				\n			\n			\n				\n			\n			\n				\n			\n			\n				\n			\n		\n\n  \nHonored to have Madam Chairman Seetha Valliappa lead the ceremonial lighting\, commemorating our pioneering step in admitting female students to technical education in 1976. The event started with a 90 second Pranayama highlighting the fact that ‘health is the new wealth’ \nChairman Shri C. Valliappa’s leadership and vision have been instrumental in shaping our commitment to women’s empowerment. Let’s continue paving the way for a brighter future together! \nDistance is no barrier as Vice Chairman Mr. Chocko Valliappa joins us online from the Middle East\, emphasizing the global importance of our mission.  Vice Chairman Mr. Thyagu Valliappa’s announcement of a women’s quota in admissions reaffirms our commitment to equality and diversity. Excited about the opportunities this brings for aspiring female students! \nDelighted to welcome Mrs. V. Sowmiya\, Additional Commissioner of Income Tax\, as our Guest of Honour. Her inspiring words are encouraging our female students to pursue empowering careers in government services.  Madam Vislakshi Chocko Valliappa’s call for courage\, self-confidence\, humility\, kindness\, and a supportive mindset deeply resonates with our ethos. \nDr. Renuka Oliver’s insights from the Tamil Nadu Widows and Destitute Welfare Board underscore the urgent need for strong laws to curb crimes against women. We’re committed to being part of the solution.  Let’s work together to create a safer environment for all women! \nIt’s not just about talks; we’re also recognizing talent and potential! Prizes were awarded to our female students\, and cultural events added vibrancy and joy to the inaugural function. Excited about the journey ahead! \n  \n  \n  \n  \n 
URL:https://www.sonamedicalcollege.ac.in/event/international-womens-day-2024/
LOCATION:Sona College of Technology\, Sona College of Technology\, Junction main road\, Salem\, Tamil nadu\, 636005\, India
CATEGORIES:Womens Day Celebration
ATTACH;FMTTYPE=image/webp:https://www.sonamedicalcollege.ac.in/wp-content/uploads/2024/03/womens-day-2024-6.webp
END:VEVENT
BEGIN:VEVENT
DTSTART;TZID=Asia/Kolkata:20230310T100000
DTEND;TZID=Asia/Kolkata:20230310T123000
DTSTAMP:20260420T002517
CREATED:20230309T072416Z
LAST-MODIFIED:20250423T070257Z
UID:10355-1678442400-1678451400@www.sonamedicalcollege.ac.in
SUMMARY:International Women's Day Celebration 2023
DESCRIPTION:Press Release\n\n			\n				\n			\n			\n				\n			\n			\n				\n			\n			\n				\n			\n		\n\nLive stream on Youtube @sonacollege
URL:https://www.sonamedicalcollege.ac.in/event/womens-day-celebration-2023/
LOCATION:Tamil nadu
CATEGORIES:Celebrations,Womens Day Celebration
END:VEVENT
END:VCALENDAR