BEGIN:VCALENDAR
VERSION:2.0
PRODID:-//Sona Medical College of Naturopathy and Yoga - ECPv6.15.20//NONSGML v1.0//EN
CALSCALE:GREGORIAN
METHOD:PUBLISH
X-WR-CALNAME:Sona Medical College of Naturopathy and Yoga
X-ORIGINAL-URL:https://www.sonamedicalcollege.ac.in
X-WR-CALDESC:Events for Sona Medical College of Naturopathy and Yoga
REFRESH-INTERVAL;VALUE=DURATION:PT1H
X-Robots-Tag:noindex
X-PUBLISHED-TTL:PT1H
BEGIN:VTIMEZONE
TZID:Asia/Kolkata
BEGIN:STANDARD
TZOFFSETFROM:+0530
TZOFFSETTO:+0530
TZNAME:IST
DTSTART:20200101T000000
END:STANDARD
END:VTIMEZONE
BEGIN:VEVENT
DTSTART;TZID=Asia/Kolkata:20220321T100000
DTEND;TZID=Asia/Kolkata:20220321T223000
DTSTAMP:20260420T030144
CREATED:20220323T050827Z
LAST-MODIFIED:20220517T051819Z
UID:7038-1647856800-1647901800@www.sonamedicalcollege.ac.in
SUMMARY:World Forestry Day 2022
DESCRIPTION:‘Save forest and Forest will save us’ is a beautiful quote. A special speech was given by Ms. Rathnapriya and this made the spectators know the importance of Forest in the health of the universe and people.
URL:https://www.sonamedicalcollege.ac.in/event/world-forestry-day-2022/
CATEGORIES:Special Day Talks
END:VEVENT
BEGIN:VEVENT
DTSTART;TZID=Asia/Kolkata:20220321T080000
DTEND;TZID=Asia/Kolkata:20220321T170000
DTSTAMP:20260420T030144
CREATED:20220323T050942Z
LAST-MODIFIED:20220517T051828Z
UID:7040-1647849600-1647882000@www.sonamedicalcollege.ac.in
SUMMARY:Down Syndrome Day
DESCRIPTION:Sona Medical College of Naturopathy and yoga celebrates Down Syndrome day on March 21 followed by a wonderful speech given by Ms. Leena Legitha. The theme was ‘Inclusion means’. Just one extra chromosome makes one extraordinary child was very clearly explained.
URL:https://www.sonamedicalcollege.ac.in/event/down-syndrome-day/
CATEGORIES:Special Day Talks
END:VEVENT
BEGIN:VEVENT
DTSTART;TZID=Asia/Kolkata:20220320T100000
DTEND;TZID=Asia/Kolkata:20220320T230000
DTSTAMP:20260420T030144
CREATED:20220321T050514Z
LAST-MODIFIED:20220517T051836Z
UID:7034-1647770400-1647817200@www.sonamedicalcollege.ac.in
SUMMARY:International Day of Happiness
DESCRIPTION:On the special occasion of International happiness day\, an energetic speech was given by Ms. Bhavadharani from Sona Medical College of Naturopathy and Yoga. The main aim is to make people around the world realize the importance of happiness within their lives. The theme of 2022 is built-back happiness.  She gave tips to be happy and build the feeling of contentment in life.
URL:https://www.sonamedicalcollege.ac.in/event/international-day-of-happiness/
CATEGORIES:Special Day Talks
END:VEVENT
BEGIN:VEVENT
DTSTART;TZID=Asia/Kolkata:20210320T080000
DTEND;TZID=Asia/Kolkata:20210320T203000
DTSTAMP:20260420T030144
CREATED:20220114T121954Z
LAST-MODIFIED:20220517T052048Z
UID:4727-1616227200-1616272200@www.sonamedicalcollege.ac.in
SUMMARY:International Happiness day
DESCRIPTION:Dr. Madankumar\, Principal and Professor\, Sona Medical College of Naturopathy and Yoga\, conducted both theory and practical session on the laughing therapy for the first batch students of SMCNY. Students completely enjoyed the session and also experienced the benefits of the laughing therapy.
URL:https://www.sonamedicalcollege.ac.in/event/international-happiness-day/
CATEGORIES:Special Day Talks
ORGANIZER;CN="Sona Medical College of Naturopathy and Yoga":MAILTO:soyoga@sonamedicalcollege.ac.in
END:VEVENT
BEGIN:VEVENT
DTSTART;TZID=Asia/Kolkata:20210318T100000
DTEND;TZID=Asia/Kolkata:20210318T103000
DTSTAMP:20260420T030144
CREATED:20220116T091138Z
LAST-MODIFIED:20220517T052103Z
UID:5072-1616061600-1616063400@www.sonamedicalcollege.ac.in
SUMMARY:World Sleep Day
DESCRIPTION:World Sleep Day was observed at Sona Medical College of Naturopathy and Yoga.Better sleep\, better life\, better planet.Less sleep shortens life\, affects day-to-day life quality.Science of sleep and recent advances in knowledge of sleep-based illnesses discussed at World Sleep Day sessions at Sona Medical College of Naturopathy and Yoga\, Salem.Dr. Ragothaman enlightened on the anatomy of sleep\, the brain\, and its role in sleep. Dr.Kalpanadevi throws light on the physiology of sleep\, the importance of sleep for students’ memory and attention powers. Dr.Karthikeyan demonstrates the power of Yoganidhra.
URL:https://www.sonamedicalcollege.ac.in/event/world-sleep-day/
CATEGORIES:Special Day Talks
ORGANIZER;CN="Sona Medical College of Naturopathy and Yoga":MAILTO:soyoga@sonamedicalcollege.ac.in
END:VEVENT
END:VCALENDAR