BEGIN:VCALENDAR
VERSION:2.0
PRODID:-//Sona Medical College of Naturopathy and Yoga - ECPv6.15.20//NONSGML v1.0//EN
CALSCALE:GREGORIAN
METHOD:PUBLISH
X-ORIGINAL-URL:https://www.sonamedicalcollege.ac.in
X-WR-CALDESC:Events for Sona Medical College of Naturopathy and Yoga
REFRESH-INTERVAL;VALUE=DURATION:PT1H
X-Robots-Tag:noindex
X-PUBLISHED-TTL:PT1H
BEGIN:VTIMEZONE
TZID:Asia/Kolkata
BEGIN:STANDARD
TZOFFSETFROM:+0530
TZOFFSETTO:+0530
TZNAME:IST
DTSTART:20190101T000000
END:STANDARD
END:VTIMEZONE
BEGIN:VEVENT
DTSTART;TZID=Asia/Kolkata:20251117T100000
DTEND;TZID=Asia/Kolkata:20251117T120000
DTSTAMP:20260419T200652
CREATED:20251114T101913Z
LAST-MODIFIED:20251124T051146Z
UID:14235-1763373600-1763380800@www.sonamedicalcollege.ac.in
SUMMARY:8th Naturopathy Day 2025 at Sona Ayush Clinic
DESCRIPTION:Sona Medical College of Naturopathy & Yoga(SMCNY) celebrated the 8th Naturopathy Day 2025 with the inauguration of the Sona Natural Wellness Festival by Thiru. R. Rajendran\, Hon’ble Minister for Tourism\, Government of Tamil Nadu. The Minister was welcomed by Sri. C. Valliappa\, Chairman\, and Mr. Thyagu Valliappa\, Vice-Chairman\, Sona Institutions & Managing Trustee\, SMCNY. He appreciated Sona’s holistic ecosystem that integrates naturopathy\, organic farming\, wellness tourism\, and community healthcare. The Minister also inaugurated the Sona Reflexology Track\, experienced its barefoot acupressure benefits\, and explored the vibrant Organic Flea Market featuring organic farmers\, artisans\, and natural lifestyle brands. \nA key highlight of the event was the launch of ‘Sona Heal on Wheels’ in partnership with Volvo—an innovative mobile wellness unit delivering naturopathy\, yoga\, and preventive healthcare to rural communities across Tamil Nadu. The celebrations also introduced Sona Gramam\, a forthcoming rural wellness resort designed to empower organic farmers\, support rural entrepreneurship\, and enhance Tamil Nadu’s presence on the global wellness map. \n         \nPress Release : Click here \n \n 
URL:https://www.sonamedicalcollege.ac.in/event/8th-naturopathy-day-2025-at-sona-ayush-clinic/
CATEGORIES:SMCNY Events,Sona Ayush Clinic
END:VEVENT
BEGIN:VEVENT
DTSTART;TZID=Asia/Kolkata:20250607T100000
DTEND;TZID=Asia/Kolkata:20250607T153000
DTSTAMP:20260419T200652
CREATED:20250610T115308Z
LAST-MODIFIED:20250610T123020Z
UID:13945-1749290400-1749310200@www.sonamedicalcollege.ac.in
SUMMARY:Harit Yoga Celebration at Yercaud: A Milestone in Sustainable Wellness Pioneering Green Yoga Initiative Marks International Yoga Day 2025
DESCRIPTION:Yercaud\, June 7\, 2025 – Sona Medical College of Naturopathy and Yoga\, Kakkapalayam\, in partnership with the Central Council for Research in Yoga and Naturopathy (CCRYN) and the Ministry of AYUSH\, successfully hosted a landmark Harit Yoga celebration that redefined the intersection of wellness and environmental consciousness. \nEvent Overview\nThe celebration took place at the historic 167-year-old British Bungalow within the pristine 33-acre Sona VT Towers and Estate\, owned by the Sona Valliappa Group. This unique venue provided the perfect backdrop for our groundbreaking “Nature Walks with Yoga” program\, demonstrating how traditional yoga practices can harmoniously integrate with environmental stewardship. \nKey Highlights\nInnovative Programming \n\nLaunch of the “Nature Walks with Yoga” initiative\nIntegration of eco-friendly practices with traditional yoga methodologies\nFocus on environmental awareness and sustainable living\nEmphasis on the interconnectedness of personal wellness and planetary health\n\nDistinguished Leadership The event was graced by prominent figures who shared our vision for sustainable wellness: \n\nMr. V. Sivakumar\, Commissioner of Panchayat Union\, Yercaud\, who emphasized the critical importance of sustainability in wellness practices\nMr. Thyagu Valliappa\, Vice Chairman of Sona Institutions\, who outlined future eco-tourism expansion plans\nMr. Anthony Michael\, Sub Inspector of Police\, Yercaud\, who highlighted yoga’s empowering role for women\nMrs. Vasanthi Balamurugan\, GM of Sona Institutions\, who felicitated the gathering\n\n\n			\n				\n			\n			\n				\n			\n			\n				\n			\n			\n				\n			\n			\n				\n			\n			\n				\n			\n			\n				\n			\n			\n				\n			\n			\n				\n			\n			\n				\n			\n			\n				\n			\n			\n				\n			\n		\n\nExpert Faculty and Medical Leadership\nOur celebration featured renowned naturopathy and yoga physicians who conducted specialized sessions: \nMedical Leadership: \n\nDr. Dinesh Kartha\, CMO of Sona Ayush\, welcomed participants\nDr. Sandeep Chunchu\, CMO of Sona Ayush Gramam\, delivered the vote of thanks\n\nExpert Physicians: \n\nDr. Bhuvaneswar\nDr. Akash Prabu\nDr. Arun\nDr. Rubesh\nDr. Reshma\nDr. Viknesh\n\nThese experts led various sessions that emphasized the profound connection between yoga practice and environmental consciousness\, providing participants with both theoretical knowledge and practical applications. \nParticipation and Community Impact\nThe event attracted over 200 participants\, including: \n\nStudents from Sona Medical College of Naturopathy and Yoga\nFaculty members from various departments\nPhysicians from Sona Ayush Multi-speciality Health Centre\, Salem\nMedical professionals from Sona Ayush Gramam\n\nThis diverse participation demonstrated the broad appeal and relevance of sustainable wellness practices across different segments of the healthcare and education communities. \nVision for Sustainable Wellness\nMr. Thyagu Valliappa shared the Sona Valliappa Group’s commitment to advancing eco-friendly tourism initiatives\, stating that this celebration represents just the beginning of our journey toward sustainable living and environmental stewardship in promoting holistic health. \nThe Harit Yoga Philosophy\nHarit Yoga\, or “Green Yoga\,” represents a revolutionary approach to wellness that recognizes the inseparable connection between human health and environmental well-being. This initiative demonstrates that: \n\nPersonal wellness practices can contribute to environmental conservation\nTraditional yoga wisdom offers solutions to contemporary environmental challenges\nSustainable practices enhance rather than compromise the effectiveness of wellness programs\nCommunity engagement is essential for creating lasting environmental impact\n\nFuture Initiatives\nBuilding on the success of this celebration\, Sona Medical College of Naturopathy and Yoga plans to: \n\nExpand the “Nature Walks with Yoga” program\nDevelop additional eco-tourism initiatives\nCreate more opportunities for community engagement in sustainable wellness\nEstablish partnerships with other institutions to spread the Harit Yoga movement\n\nInstitutional Partnerships\nThe success of this event was made possible through collaborative efforts with: \n\nCentral Council for Research in Yoga and Naturopathy (CCRYN)\nMinistry of AYUSH\nSona Medical College of Naturopathy and Yoga\nLocal government bodies and community leaders\n\n\nFor more information about our Harit Yoga initiatives and upcoming programs\, please contact Sona Medical College of Naturopathy and Yoga or visit our eco-tourism programs at Sona VT Towers and Estate.
URL:https://www.sonamedicalcollege.ac.in/event/harit-yoga-celebration-at-yercaud-a-milestone-in-sustainable-wellness-pioneering-green-yoga-initiative-marks-international-yoga-day-2025/
CATEGORIES:International Yoga Day,SMCNY Events,Sona Ayush Clinic
ATTACH;FMTTYPE=image/jpeg:https://www.sonamedicalcollege.ac.in/wp-content/uploads/2025/06/0X9A1876-scaled.jpg
END:VEVENT
BEGIN:VEVENT
DTSTART;VALUE=DATE:20250217
DTEND;VALUE=DATE:20250218
DTSTAMP:20260419T200652
CREATED:20250221T074914Z
LAST-MODIFIED:20250303T043324Z
UID:13221-1739750400-1739836799@www.sonamedicalcollege.ac.in
SUMMARY:Strengthening Global Ties: Silesian University of Technology Delegates Explore Indian Heritage Medicine at Sona Ayush Clinic
DESCRIPTION:Honored to Host Delegates from Silesian University of Technology\, Poland! \nWe were privileged to welcome Prof. Sebastian Werle\, Vice Rector for Science and International Cooperation\, and Dr. Grzegorz Klapyta\, Head of the International Relations Office\, from Silesian University of Technology\, Poland\, to the Sona Ayush Multi-Speciality Healthcare Clinic on 17th February 2025. \nDuring their visit\, they explored the richness of Indian heritage medicine\, gaining insights into its holistic healing principles and natural therapies. This engagement marks a significant step in fostering global collaborations in healthcare\, research\, and knowledge exchange. \nLooking forward to more such meaningful interactions that bridge traditional wisdom with modern innovation!
URL:https://www.sonamedicalcollege.ac.in/event/strengthening-global-ties-silesian-university-of-technology-delegates-explore-indian-heritage-medicine-at-sona-ayush-clinic/
CATEGORIES:Sona Ayush Clinic
ATTACH;FMTTYPE=image/jpeg:https://www.sonamedicalcollege.ac.in/wp-content/uploads/2025/02/047A2782-scaled.jpg
END:VEVENT
BEGIN:VEVENT
DTSTART;TZID=Asia/Kolkata:20230719T090000
DTEND;TZID=Asia/Kolkata:20230719T170000
DTSTAMP:20260419T200652
CREATED:20230719T044014Z
LAST-MODIFIED:20250423T064753Z
UID:11266-1689757200-1689786000@www.sonamedicalcollege.ac.in
SUMMARY:Free Medical Camp
DESCRIPTION:In honour of our honorable Chairman\, Mr.C.Valliappa’s 80th birthday\, the Sona Medical College of Naturopathy and Yoga organised a free medical camp & blood donation camp for the people around Kandarkula Manikam\, Attayampatty & Kakapalayam. More than 300 people got benefitted out of this camp. The medical officers advised the people for various health related issues and offered natural remedies for the patients. The people were also given yogic and varma treatment. \n \nGallery :
URL:https://www.sonamedicalcollege.ac.in/event/free-medical-camp/
LOCATION:Sona Medical College of Naturopathy and Yoga\, Sona Medical College of Naturopathy and Yoga\,\, Salem\, Tamil nadu\, 637504\, India
CATEGORIES:Sona Ayush Clinic
ATTACH;FMTTYPE=image/webp:https://www.sonamedicalcollege.ac.in/wp-content/uploads/2023/07/047A3643.webp
END:VEVENT
BEGIN:VEVENT
DTSTART;TZID=Asia/Kolkata:20210914T150000
DTEND;TZID=Asia/Kolkata:20210914T160000
DTSTAMP:20260419T200652
CREATED:20220120T133115Z
LAST-MODIFIED:20220120T142234Z
UID:5612-1631631600-1631635200@www.sonamedicalcollege.ac.in
SUMMARY:Thyroid awareness campaign
DESCRIPTION:for Video : Click here \n 
URL:https://www.sonamedicalcollege.ac.in/event/5612/
CATEGORIES:SMCNY Events,Sona Ayush Clinic
END:VEVENT
BEGIN:VEVENT
DTSTART;TZID=Asia/Kolkata:20200919T060000
DTEND;TZID=Asia/Kolkata:20200919T070000
DTSTAMP:20260419T200652
CREATED:20220121T064024Z
LAST-MODIFIED:20220121T064312Z
UID:5761-1600495200-1600498800@www.sonamedicalcollege.ac.in
SUMMARY:Inauguration of Sona Ayush Multispeciality Health Clinic
DESCRIPTION:Press Release : Click here
URL:https://www.sonamedicalcollege.ac.in/event/inauguration-of-sona-ayush-multispeciality-clinic/
CATEGORIES:SMCNY Events,Sona Ayush Clinic
END:VEVENT
END:VCALENDAR