BEGIN:VCALENDAR
VERSION:2.0
PRODID:-//Sona Medical College of Naturopathy and Yoga - ECPv6.15.20//NONSGML v1.0//EN
CALSCALE:GREGORIAN
METHOD:PUBLISH
X-ORIGINAL-URL:https://www.sonamedicalcollege.ac.in
X-WR-CALDESC:Events for Sona Medical College of Naturopathy and Yoga
REFRESH-INTERVAL;VALUE=DURATION:PT1H
X-Robots-Tag:noindex
X-PUBLISHED-TTL:PT1H
BEGIN:VTIMEZONE
TZID:Asia/Kolkata
BEGIN:STANDARD
TZOFFSETFROM:+0530
TZOFFSETTO:+0530
TZNAME:IST
DTSTART:20240101T000000
END:STANDARD
END:VTIMEZONE
BEGIN:VEVENT
DTSTART;TZID=Asia/Kolkata:20251114T100000
DTEND;TZID=Asia/Kolkata:20251114T123000
DTSTAMP:20260420T041936
CREATED:20251116T072543Z
LAST-MODIFIED:20251116T072649Z
UID:14273-1763114400-1763123400@www.sonamedicalcollege.ac.in
SUMMARY:World Diabetes Day Programme – 14 November 2025
DESCRIPTION:Venue: Sona 500 Hall\, Sona Medical College of Naturopathy and YogaOrganised by: Dr. Riya Steffi\, Department of Community Medicine \nThe World Diabetes Day Programme was held on 14 November 2025 at the Sona 500 Hall with the aim of creating awareness about diabetes and encouraging healthy lifestyle habits among students. \nThe event began with an introduction to the importance of World Diabetes Day\, followed by two insightful presentations delivered by student speakers from the Vrinda batch: \n\n\nMs. Sabitha presented an informative session on Type 1 Diabetes Mellitus\, emphasizing its causes\, clinical features\, and the need for early diagnosis. \n\n\nMr. Anand delivered a detailed talk on Type 2 Diabetes Mellitus\, focusing on risk factors\, lifestyle modifications\, and preventive measures. \n\n\nAs a key highlight of the programme\, students from all batches prepared and showcased a range of diabetic-friendly dishes\, presenting creative and nutritious meal options suitable for individuals with diabetes. The enthusiastic participation of the freshers added great energy to the event\, reflecting their growing awareness of healthy food choices. \nThe programme served as a meaningful platform for knowledge sharing\, active student involvement\, and hands-on learning. The event concluded with words of appreciation for all contributors\, acknowledging their dedicated efforts in making the programme informative\, engaging\, and impactful.
URL:https://www.sonamedicalcollege.ac.in/event/world-diabetes-day-programme-14-november-2025/
LOCATION:Sona Medical College of Naturopathy and Yoga\, Sona Medical College of Naturopathy and Yoga\,\, Salem\, Tamil nadu\, 637504\, India
CATEGORIES:SMCNY Events
END:VEVENT
END:VCALENDAR