BEGIN:VCALENDAR
VERSION:2.0
PRODID:-//Sona Medical College of Naturopathy and Yoga - ECPv6.15.20//NONSGML v1.0//EN
CALSCALE:GREGORIAN
METHOD:PUBLISH
X-WR-CALNAME:Sona Medical College of Naturopathy and Yoga
X-ORIGINAL-URL:https://www.sonamedicalcollege.ac.in
X-WR-CALDESC:Events for Sona Medical College of Naturopathy and Yoga
REFRESH-INTERVAL;VALUE=DURATION:PT1H
X-Robots-Tag:noindex
X-PUBLISHED-TTL:PT1H
BEGIN:VTIMEZONE
TZID:Asia/Kolkata
BEGIN:STANDARD
TZOFFSETFROM:+0530
TZOFFSETTO:+0530
TZNAME:IST
DTSTART:20240101T000000
END:STANDARD
END:VTIMEZONE
BEGIN:VEVENT
DTSTART;TZID=Asia/Kolkata:20250917T160000
DTEND;TZID=Asia/Kolkata:20250925T170000
DTSTAMP:20260422T154905
CREATED:20251002T071301Z
LAST-MODIFIED:20251002T071656Z
UID:14120-1758124800-1758819600@www.sonamedicalcollege.ac.in
SUMMARY:777 Project by Rotary Club of Salem Wings
DESCRIPTION:Theme – 7Doctors\, 7Days\, 7Topics by Wing\n  \nProgram Date: 17/9/25 (Day 1) \nVenue: SONA 500\, Sona Medical College of Naturopathy and Yoga.\nSpeaker of the day: Dr. V. Karthika\nTopic: Blood &it’s diseases \nThe 777 Project inauguration and topic presentation on blood and it’s diseases by Dr. Karthika\, was a resounding success\, achieving its objectives and providing a valuable platform for knowledge sharing and discussion. The collaborative effort between the Rotary Club of Salem Wing and Sona Medical College showcased their commitment to promoting medical education and awareness\, ultimately benefiting the medical community and beyond. \n \nProgram Date: 18/9/25 (Day 2) \nVenue: SONA 500\, Sona Medical College of Naturopathy and Yoga.\nSpeaker of the Day: Dr. Janani S\nTopic of the day:  Myths and Facts in Fertility \nPresent by Dr. Janani. S was very useful\, informative\, engaging\, and well-delivered. And a Good interaction with our Students of Sona Medical College. \n \nProgram Date: 19/9/25 (Day 3) \nVenue: SONA 500\, Sona Medical College of Naturopathy and Yoga.\nSpeaker of the Day: Dr. Minushwetha\nTopic of the day: Secrets for Glowing Skin \nThe presentation on “Glowing Secret of Skin” provided valuable insights into achieving healthy and radiant skin. The speaker effectively covered various aspects of skin care\, highlighting key factors that contribute to a glowing complexion. The presentation was informative and engaging\, offering practical tips and advice for achieving healthy\, glowing skin. The speaker’s expertise and enthusiasm made the topic accessible and interesting to the audience. Session was very interactive too. \n \nProgram Date: 22/9/25 (Day 4) \nVenue: SONA 500\, Sona Medical College of Naturopathy and Yoga.\nSpeaker of the Day: Dr. Vijayalakshmi\nTopic of the day:  Lifestyle Changes \nThe presentation provided valuable insights into the benefits of lifestyle changes. By adopting healthy habits\, individuals can improve their overall health and well-being. Focused on subtopics: \n\nHealthy lifestyle habits can reduce the risk of chronic diseases.\nRegular exercise and balanced diet can improve physical function and mental well-being.\nAdequate sleep and stress management are crucial for overall health.\n\n \nProgram Date: 23/9/25 (Day 5) \nVenue: SONA 500\, Sona Medical College of Naturopathy and Yoga.\nSpeaker of the Day: Dr. Priyadharshini\nTopic of the day: Childhood Development Tracking: A Preventive Mental Health Strategy \nThe presentation emphasized the significance of childhood development tracking as a preventive mental health strategy. By monitoring and supporting children’s development\, we can promote healthy growth and reduce the risk of mental health concerns. Had a clear conclusion on Preventive strategies can promote healthy development and reduce the risk of mental health issues. \n \nProgram Date: 24/9/25 (Day 6) \nVenue: SONA 500\, Sona Medical College of Naturopathy and Yoga.\nSpeaker of the Day: Dr. B Gayathri Rafi\nTopic of the day: Healthy Mind\, Healthy Life \n              The presentation highlighted the significance of mental health in achieving a healthy and balanced life. By prioritizing mental well-being and adopting healthy habits\, individuals can improve their overall quality of life. Focused on topics: Prioritizing mental health is essential for overall well-being. Simple practices like mindfulness and self-care can significantly improve mental health. Building positive relationships and seeking support can help maintain mental well-being. \n \nProgram Date: 25/9/25 (Day 7) \nVenue: SONA 500\, Sona Medical College of Naturopathy and Yoga.\nSpeaker of the Day: Dr. Soundravalli\nTopic of the day: Laboratory medicine \nThe presentation emphasized the significance of laboratory medicine in healthcare\, highlighting its role in patient care\, disease diagnosis\, and management. By adopting best practices\, leveraging technological advances\, and prioritizing quality control\, laboratory medicine continues to shape the future of healthcare. Felicitating the chief guest and all the Rtn. Of 777 program.
URL:https://www.sonamedicalcollege.ac.in/event/777-project-by-rotary-club-of-salem-wings/
LOCATION:Sona Medical College of Naturopathy and Yoga\, Sona Medical College of Naturopathy and Yoga\,\, Salem\, Tamil nadu\, 637504\, India
CATEGORIES:SMCNY Events
ATTACH;FMTTYPE=image/jpeg:https://www.sonamedicalcollege.ac.in/wp-content/uploads/2025/10/image009.jpg
END:VEVENT
END:VCALENDAR