BEGIN:VCALENDAR
VERSION:2.0
PRODID:-//Sona Medical College of Naturopathy and Yoga - ECPv6.15.20//NONSGML v1.0//EN
CALSCALE:GREGORIAN
METHOD:PUBLISH
X-ORIGINAL-URL:https://www.sonamedicalcollege.ac.in
X-WR-CALDESC:Events for Sona Medical College of Naturopathy and Yoga
REFRESH-INTERVAL;VALUE=DURATION:PT1H
X-Robots-Tag:noindex
X-PUBLISHED-TTL:PT1H
BEGIN:VTIMEZONE
TZID:Asia/Kolkata
BEGIN:STANDARD
TZOFFSETFROM:+0530
TZOFFSETTO:+0530
TZNAME:IST
DTSTART:20200101T000000
END:STANDARD
END:VTIMEZONE
BEGIN:VEVENT
DTSTART;VALUE=DATE:20210701
DTEND;VALUE=DATE:20230401
DTSTAMP:20260420T092815
CREATED:20210701T103024Z
LAST-MODIFIED:20230602T131119Z
UID:4256-1625097600-1680307199@www.sonamedicalcollege.ac.in
SUMMARY:Online Yoga Classes
DESCRIPTION:To boost the flexibility and strength of your body and mind\, Sona Medical College of Naturopathy and Yoga launching technology based yoga class *SOYOGA* at your door step for both men and women. \nClasses will be dealt by experienced doctors. \nRs.100/- per month for 1st 100 people. \nHurry up and book your seats through our website or phone call. 9442700356 \nEmail : soyoga@sonamedicalcollege.ac.in \nFor online payment: \nIndian overseas bank\nAccount no:024601000036572\nIFSC code:IOBA0000246\nSuramangalam branch\, salem. \nTiming: Morning 7.30am to 8.00 am / Monday to friday
URL:https://www.sonamedicalcollege.ac.in/event/online-yoga-class/
LOCATION:Tamil nadu
CATEGORIES:Online Yoga
ORGANIZER;CN="Sona Medical College of Naturopathy and Yoga":MAILTO:soyoga@sonamedicalcollege.ac.in
END:VEVENT
BEGIN:VEVENT
DTSTART;TZID=Asia/Kolkata:20210621T063000
DTEND;TZID=Asia/Kolkata:20210621T070000
DTSTAMP:20260420T092815
CREATED:20220117T061803Z
LAST-MODIFIED:20220117T061803Z
UID:5371-1624257000-1624258800@www.sonamedicalcollege.ac.in
SUMMARY:International Yoga day Celebrations 2021
DESCRIPTION:Sona takes Yoga beyond the mat. On 7th International  Yoga Day launches Sonayma (new Pranayama)\, music blended breathing aid. Many more events mark Soyoga2021 at the Sona campus.
URL:https://www.sonamedicalcollege.ac.in/event/international-yoga-day-celebrations-2021/
LOCATION:Sona College of Technology\, Sona College of Technology\, Junction main road\, Salem\, Tamil nadu\, 636005\, India
CATEGORIES:Online Yoga,SMCNY Events
ORGANIZER;CN="Sona Medical College of Naturopathy and Yoga":MAILTO:soyoga@sonamedicalcollege.ac.in
END:VEVENT
END:VCALENDAR