BEGIN:VCALENDAR
VERSION:2.0
PRODID:-//Sona Medical College of Naturopathy and Yoga - ECPv6.15.20//NONSGML v1.0//EN
CALSCALE:GREGORIAN
METHOD:PUBLISH
X-WR-CALNAME:Sona Medical College of Naturopathy and Yoga
X-ORIGINAL-URL:https://www.sonamedicalcollege.ac.in
X-WR-CALDESC:Events for Sona Medical College of Naturopathy and Yoga
REFRESH-INTERVAL;VALUE=DURATION:PT1H
X-Robots-Tag:noindex
X-PUBLISHED-TTL:PT1H
BEGIN:VTIMEZONE
TZID:Asia/Kolkata
BEGIN:STANDARD
TZOFFSETFROM:+0530
TZOFFSETTO:+0530
TZNAME:IST
DTSTART:20230101T000000
END:STANDARD
END:VTIMEZONE
BEGIN:VEVENT
DTSTART;TZID=Asia/Kolkata:20240924T080000
DTEND;TZID=Asia/Kolkata:20240924T170000
DTSTAMP:20260424T063130
CREATED:20240924T122113Z
LAST-MODIFIED:20250423T061215Z
UID:13088-1727164800-1727197200@www.sonamedicalcollege.ac.in
SUMMARY:All About Cricket with Bosskey and National Level Coaches
DESCRIPTION:All About Cricket with Bosskey and National Level Coaches\nSona Institutions proudly presents “All About Cricket\,” a special cricket day on 28th September 2024 featuring an exciting lineup of guests. The event will host Bosskey\, a renowned Indian actor\, cricketer\, and stand-up comedian\, along with C. Sivakumar\, MD of Time Links\, and T.R. Arasu\, a National Level Cricket Coach. \nParticipants will have the chance to engage in cricket discussions\, learn from the experts\, and enjoy an entertaining day dedicated to the sport. Powered by the Sona Cricket Academy\, this event promises to be a thrilling and informative experience for all cricket enthusiasts. \nJoin us for a day of cricket fun\, insights\, and interactions! \nTIME: 10.00 AM TO 4.00 PM
URL:https://www.sonamedicalcollege.ac.in/event/all-about-cricket-with-bosskey-and-national-level-coaches/
CATEGORIES:Events
ATTACH;FMTTYPE=image/jpeg:https://www.sonamedicalcollege.ac.in/wp-content/uploads/2024/09/cricket.jpeg
END:VEVENT
END:VCALENDAR