BEGIN:VCALENDAR
VERSION:2.0
PRODID:-//Sona Medical College of Naturopathy and Yoga - ECPv6.15.20//NONSGML v1.0//EN
CALSCALE:GREGORIAN
METHOD:PUBLISH
X-WR-CALNAME:Sona Medical College of Naturopathy and Yoga
X-ORIGINAL-URL:https://www.sonamedicalcollege.ac.in
X-WR-CALDESC:Events for Sona Medical College of Naturopathy and Yoga
REFRESH-INTERVAL;VALUE=DURATION:PT1H
X-Robots-Tag:noindex
X-PUBLISHED-TTL:PT1H
BEGIN:VTIMEZONE
TZID:Asia/Kolkata
BEGIN:STANDARD
TZOFFSETFROM:+0530
TZOFFSETTO:+0530
TZNAME:IST
DTSTART:20230101T000000
END:STANDARD
END:VTIMEZONE
BEGIN:VEVENT
DTSTART;TZID=Asia/Kolkata:20240910T080000
DTEND;TZID=Asia/Kolkata:20240910T170000
DTSTAMP:20260424T050413
CREATED:20240910T111651Z
LAST-MODIFIED:20250423T062144Z
UID:12697-1725955200-1725987600@www.sonamedicalcollege.ac.in
SUMMARY:SMCNY students visited Gokulam Hospital
DESCRIPTION:Experiencing Learning beyond the Classroom!\nStudent of Haridra batch visit to Gokulam hospital\, today\, not only enhance their understanding of healthcare but also promote empathy\, teamwork\, and real-world application of their studies. \nThese invaluable experiences bridge the gap between theory and practice\, preparing future professionals for impactful careers. \nTotal 40 students from Haridra batch (Second year) visited Gokulam hospital as part of their academic activity:\nDepartments observed are Cardiac ICU +Cardiac OT – cardiac specialist doctor explained about the present case’s diagnosis\, plan of care\, post operative complications & care; Cath lab – other cardiac specialist explained about the procedure of angiography\, investigations pre & post\, plan of care then followed by visit to post op ward – suggested the doctor to explain about the angiogram & angioplasty reports of the patients \, then explained the ECG & ventilator machine\, students volunteered interest to defibrillator – doctor explained the same regarding to indications & contraindications of the defibrillator and finally students visited the dialysis ward – nursing faculty explained about a patient report\, lab technicians at x-ray unit explained the procedures followed for the patients while performing x ray.
URL:https://www.sonamedicalcollege.ac.in/event/smcny-students-visited-gokulam-hospital/
CATEGORIES:Events
ATTACH;FMTTYPE=image/jpeg:https://www.sonamedicalcollege.ac.in/wp-content/uploads/2024/09/WhatsApp-Image-2024-09-09-at-16.41.21.jpeg
END:VEVENT
BEGIN:VEVENT
DTSTART;TZID=Asia/Kolkata:20240910T080000
DTEND;TZID=Asia/Kolkata:20240910T170000
DTSTAMP:20260424T050413
CREATED:20240910T123011Z
LAST-MODIFIED:20250423T062810Z
UID:12719-1725955200-1725987600@www.sonamedicalcollege.ac.in
SUMMARY:SMCNY students visited SMPG Mettur Herbal garden
DESCRIPTION:SMCNY students visited SMPG Mettur Herbal garden\nWe and the students of Dhurva batch have visited the SMPG Mettur for the herbal garden visit. For the practical exposure in the subject of Nutrition and herbology in our curriculum on 20/8/24. The visit was very useful. The students have gained knowledge of various herbs and aqua plants. Distinct varieties of herbs has been shown to the students. A staff from the SMPG guided our students. \nSpecial thanks to management and Principal on behalf of students for the visit. \nDATE: 20/08/24 \nPLACE: SIDDHA MEDICINAL PLANTS GARDEN\,METTUR\,SALEM \nNO OF STUDENTS: 32 \nSTAFFS: DR.SAROJINI\, DR.VINO
URL:https://www.sonamedicalcollege.ac.in/event/smcny-students-visited-smpg-mettur-herbal-garden/
CATEGORIES:Events
ATTACH;FMTTYPE=image/jpeg:https://www.sonamedicalcollege.ac.in/wp-content/uploads/2024/09/WhatsApp-Image-2024-09-10-at-5.50.18-PM-scaled.jpeg
END:VEVENT
BEGIN:VEVENT
DTSTART;TZID=Asia/Kolkata:20240924T080000
DTEND;TZID=Asia/Kolkata:20240924T170000
DTSTAMP:20260424T050413
CREATED:20240924T122113Z
LAST-MODIFIED:20250423T061215Z
UID:13088-1727164800-1727197200@www.sonamedicalcollege.ac.in
SUMMARY:All About Cricket with Bosskey and National Level Coaches
DESCRIPTION:All About Cricket with Bosskey and National Level Coaches\nSona Institutions proudly presents “All About Cricket\,” a special cricket day on 28th September 2024 featuring an exciting lineup of guests. The event will host Bosskey\, a renowned Indian actor\, cricketer\, and stand-up comedian\, along with C. Sivakumar\, MD of Time Links\, and T.R. Arasu\, a National Level Cricket Coach. \nParticipants will have the chance to engage in cricket discussions\, learn from the experts\, and enjoy an entertaining day dedicated to the sport. Powered by the Sona Cricket Academy\, this event promises to be a thrilling and informative experience for all cricket enthusiasts. \nJoin us for a day of cricket fun\, insights\, and interactions! \nTIME: 10.00 AM TO 4.00 PM
URL:https://www.sonamedicalcollege.ac.in/event/all-about-cricket-with-bosskey-and-national-level-coaches/
CATEGORIES:Events
ATTACH;FMTTYPE=image/jpeg:https://www.sonamedicalcollege.ac.in/wp-content/uploads/2024/09/cricket.jpeg
END:VEVENT
END:VCALENDAR