BEGIN:VCALENDAR
VERSION:2.0
PRODID:-//Sona Medical College of Naturopathy and Yoga - ECPv6.15.20//NONSGML v1.0//EN
CALSCALE:GREGORIAN
METHOD:PUBLISH
X-WR-CALNAME:Sona Medical College of Naturopathy and Yoga
X-ORIGINAL-URL:https://www.sonamedicalcollege.ac.in
X-WR-CALDESC:Events for Sona Medical College of Naturopathy and Yoga
REFRESH-INTERVAL;VALUE=DURATION:PT1H
X-Robots-Tag:noindex
X-PUBLISHED-TTL:PT1H
BEGIN:VTIMEZONE
TZID:Asia/Kolkata
BEGIN:STANDARD
TZOFFSETFROM:+0530
TZOFFSETTO:+0530
TZNAME:IST
DTSTART:20250101T000000
END:STANDARD
END:VTIMEZONE
BEGIN:VEVENT
DTSTART;TZID=Asia/Kolkata:20260307T093000
DTEND;TZID=Asia/Kolkata:20260308T110000
DTSTAMP:20260420T151356
CREATED:20260413T055320Z
LAST-MODIFIED:20260413T055320Z
UID:14392-1772875800-1772967600@www.sonamedicalcollege.ac.in
SUMMARY:World Health Day 2026
DESCRIPTION:The World Health Day programme at Sona Medical College of Naturopathy and Yoga was successfully conducted over two days\, promoting awareness on healthy lifestyle and natural living. Day 1 featured an engaging debate on modern lifestyle and health\, encouraging critical thinking among students. Day 2 included a fireless cooking competition on immune-boosting foods and insightful health talks on stress and turmeric. The event saw active participation from students and faculty\, making it highly interactive and meaningful. Overall\, the programme highlighted the importance of preventive healthcare\, balanced living\, and naturopathy practices.
URL:https://www.sonamedicalcollege.ac.in/event/world-health-day-2026/
LOCATION:Sona Medical College of Naturopathy and Yoga\, Sona Medical College of Naturopathy and Yoga\,\, Salem\, Tamil nadu\, 637504\, India
END:VEVENT
END:VCALENDAR