BEGIN:VCALENDAR
VERSION:2.0
PRODID:-//Sona Medical College of Naturopathy and Yoga - ECPv6.15.20//NONSGML v1.0//EN
CALSCALE:GREGORIAN
METHOD:PUBLISH
X-ORIGINAL-URL:https://www.sonamedicalcollege.ac.in
X-WR-CALDESC:Events for Sona Medical College of Naturopathy and Yoga
REFRESH-INTERVAL;VALUE=DURATION:PT1H
X-Robots-Tag:noindex
X-PUBLISHED-TTL:PT1H
BEGIN:VTIMEZONE
TZID:Asia/Kolkata
BEGIN:STANDARD
TZOFFSETFROM:+0530
TZOFFSETTO:+0530
TZNAME:IST
DTSTART:20250101T000000
END:STANDARD
END:VTIMEZONE
BEGIN:VEVENT
DTSTART;TZID=Asia/Kolkata:20260304T103000
DTEND;TZID=Asia/Kolkata:20260304T103000
DTSTAMP:20260422T152603
CREATED:20260413T064355Z
LAST-MODIFIED:20260413T064436Z
UID:14429-1772620200-1772620200@www.sonamedicalcollege.ac.in
SUMMARY:World Obesity Day 2026
DESCRIPTION:On the occasion of World Obesity Day (March 4)\, themed “8 Billion Reasons to Act on Obesity\,” an awareness program was conducted to highlight the growing concern of obesity and its impact on overall health. Obesity is a chronic and complex disease characterized by excessive body fat accumulation due to factors such as calorie imbalance\, sedentary lifestyle\, unhealthy diet\, hormonal disorders\, stress\, and genetic influences. The session emphasized that obesity is not merely a cosmetic issue but a major risk factor for serious conditions like type 2 diabetes\, cardiovascular diseases\, hypertension\, dyslipidemia\, respiratory disorders\, joint problems\, and certain cancers. It also shed light on the psychological and social aspects of obesity\, including depression\, anxiety\, low self-esteem\, emotional eating\, and social stigma\, which further complicate weight management. From a clinical perspective\, obesity is now recognized as a chronic inflammatory condition associated with insulin resistance and metabolic disorders\, including concepts like sarcopenic obesity. The program highlighted the importance of prevention through a balanced diet\, regular physical activity such as yoga and walking\, stress management\, and adequate sleep. Additionally\, naturopathy treatments like Atapasana\, diet and nutrition therapy\, hydrotherapy\, and mud therapy were discussed as effective natural approaches for weight management. Overall\, the session emphasized a holistic approach to obesity management\, focusing on lifestyle modification\, mental well-being\, and long-term health rather than just weight loss.
URL:https://www.sonamedicalcollege.ac.in/event/world-obesity-day/
LOCATION:Sona Medical College of Naturopathy and Yoga\, Sona Medical College of Naturopathy and Yoga\,\, Salem\, Tamil nadu\, 637504\, India
END:VEVENT
END:VCALENDAR