BEGIN:VCALENDAR
VERSION:2.0
PRODID:-//Sona Medical College of Naturopathy and Yoga - ECPv6.15.20//NONSGML v1.0//EN
CALSCALE:GREGORIAN
METHOD:PUBLISH
X-ORIGINAL-URL:https://www.sonamedicalcollege.ac.in
X-WR-CALDESC:Events for Sona Medical College of Naturopathy and Yoga
REFRESH-INTERVAL;VALUE=DURATION:PT1H
X-Robots-Tag:noindex
X-PUBLISHED-TTL:PT1H
BEGIN:VTIMEZONE
TZID:Asia/Kolkata
BEGIN:STANDARD
TZOFFSETFROM:+0530
TZOFFSETTO:+0530
TZNAME:IST
DTSTART:20250101T000000
END:STANDARD
END:VTIMEZONE
BEGIN:VEVENT
DTSTART;TZID=Asia/Kolkata:20260204T093000
DTEND;TZID=Asia/Kolkata:20260204T103000
DTSTAMP:20260420T182000
CREATED:20260413T121029Z
LAST-MODIFIED:20260413T121044Z
UID:14453-1770197400-1770201000@www.sonamedicalcollege.ac.in
SUMMARY:World Cancer Day 2026
DESCRIPTION:The awareness session on World Cancer Day began with an introduction by Dr. Ajitha Sri\, followed by speeches by Subashree and Senbagaraman highlighting the importance of cancer awareness and prevention. Observed on February 4\, World Cancer Day aims to educate people\, promote early detection\, and reduce the global impact of cancer. \nCancer\, a disease caused by the uncontrolled growth of abnormal cells\, affects millions worldwide\, with nearly 20 million new cases and 10 million deaths reported each year. The session covered key causes such as unhealthy lifestyle habits\, genetic factors\, and environmental risks. Common symptoms like unexplained weight loss\, fatigue\, and unusual lumps were discussed\, along with the importance of early diagnosis. \nPreventive measures including healthy living\, regular screenings\, and vaccinations were emphasized. The speakers also highlighted government initiatives in India and Tamil Nadu that support cancer awareness\, screening\, and treatment. The session concluded with a message of hope\, stressing the importance of awareness\, timely treatment\, and emotional support for cancer patients.
URL:https://www.sonamedicalcollege.ac.in/event/world-cancer-day/
LOCATION:Sona Medical College of Naturopathy and Yoga\, Sona Medical College of Naturopathy and Yoga\,\, Salem\, Tamil nadu\, 637504\, India
END:VEVENT
END:VCALENDAR